BEGIN:VCALENDAR
VERSION:2.0
PRODID:-//wmmi.org//NONSGML kigkonsult.se iCalcreator 2.30.10//
CALSCALE:GREGORIAN
METHOD:PUBLISH
UID:2b0d33d3-b773-4366-8d32-baffb6aed607
X-WR-CALDESC:Thank you Nurses!  FREE Admission during your Nationally recog
 nized week.  (Museum is closed on Sunday)
X-WR-RELCALID:cbdee266ffbb39af2a3ea2be33c87ab9
X-WR-TIMEZONE:America/Denver
BEGIN:VTIMEZONE
TZID:America/Denver
BEGIN:STANDARD
TZNAME:MST
DTSTART:20211107T020000
TZOFFSETFROM:-0600
TZOFFSETTO:-0700
RDATE:20221106T020000
RDATE:20231105T020000
END:STANDARD
BEGIN:DAYLIGHT
TZNAME:MDT
DTSTART:20220313T020000
TZOFFSETFROM:-0700
TZOFFSETTO:-0600
RDATE:20230312T020000
END:DAYLIGHT
END:VTIMEZONE
BEGIN:VEVENT
UID:810d1aa5-4849-44bd-8b18-b0cab1d2764b
DTSTAMP:20260422T025437Z
DESCRIPTION:Thank you Nurses!  FREE Admission during your Nationally recogn
 ized week.  (Museum is closed on Sunday)
DTSTART;TZID=America/Denver:20220512T000000
DTEND;TZID=America/Denver:20220512T235900
LOCATION:225 North Gate Blvd\, colorado springs\, CO 80921 US
SUMMARY:Nurse Appreciation Week-FREE ADMISSION for Nurses
END:VEVENT
END:VCALENDAR
