BEGIN:VCALENDAR
VERSION:2.0
PRODID:-//wmmi.org//NONSGML kigkonsult.se iCalcreator 2.30.10//
CALSCALE:GREGORIAN
METHOD:PUBLISH
UID:b597f692-e9c5-4cb8-85b1-1817b292c9f9
X-WR-CALDESC:Thank you Nurses!  FREE Admission during your Nationally recog
 nized week.  (Museum is closed on Sunday)
X-WR-RELCALID:08e2d3d062750d0c6ae763fd8382eff6
X-WR-TIMEZONE:America/Denver
BEGIN:VTIMEZONE
TZID:America/Denver
BEGIN:STANDARD
TZNAME:MST
DTSTART:20211107T020000
TZOFFSETFROM:-0600
TZOFFSETTO:-0700
RDATE:20221106T020000
RDATE:20231105T020000
END:STANDARD
BEGIN:DAYLIGHT
TZNAME:MDT
DTSTART:20220313T020000
TZOFFSETFROM:-0700
TZOFFSETTO:-0600
RDATE:20230312T020000
END:DAYLIGHT
END:VTIMEZONE
BEGIN:VEVENT
UID:7f7eb612-1079-4cc5-bcd5-2b2baec8c633
DTSTAMP:20260422T025502Z
DESCRIPTION:Thank you Nurses!  FREE Admission during your Nationally recogn
 ized week.  (Museum is closed on Sunday)
DTSTART;TZID=America/Denver:20220511T000000
DTEND;TZID=America/Denver:20220511T235900
LOCATION:225 North Gate Blvd\, colorado springs\, CO 80921 US
SUMMARY:Nurse Appreciation Week-FREE ADMISSION for Nurses
END:VEVENT
END:VCALENDAR
