BEGIN:VCALENDAR
VERSION:2.0
PRODID:-//wmmi.org//NONSGML kigkonsult.se iCalcreator 2.30.10//
CALSCALE:GREGORIAN
METHOD:PUBLISH
UID:dfabfc19-2c91-4cef-96cf-3f2f43916e49
X-WR-CALDESC:Join us for another Monthly Lecture Series at WMMI.  This mont
 h we feature Colorado Travel Enthusiasts and WMMI Members Barry and Joan C
 urrie as they show amazing images and tell entertaining tales of their adv
 entures in Southwestern and Central Colorado. Get ready for your summer tr
 ips and learn about hidden gems around our great state!  \nMembers are FRE
 E\, guests are only $5.00
X-WR-RELCALID:1b354c303582e90ae5005f6f3ba0ea5d
X-WR-TIMEZONE:America/Denver
BEGIN:VTIMEZONE
TZID:America/Denver
BEGIN:STANDARD
TZNAME:MST
DTSTART:20211107T020000
TZOFFSETFROM:-0600
TZOFFSETTO:-0700
RDATE:20221106T020000
RDATE:20231105T020000
END:STANDARD
BEGIN:DAYLIGHT
TZNAME:MDT
DTSTART:20220313T020000
TZOFFSETFROM:-0700
TZOFFSETTO:-0600
RDATE:20230312T020000
END:DAYLIGHT
END:VTIMEZONE
BEGIN:VEVENT
UID:c0ded379-bbab-4ec9-9eda-4acebb82afc2
DTSTAMP:20260422T025308Z
DESCRIPTION:Join us for another Monthly Lecture Series at WMMI.  This month
  we feature Colorado Travel Enthusiasts and WMMI Members Barry and Joan Cu
 rrie as they show amazing images and tell entertaining tales of their adve
 ntures in Southwestern and Central Colorado. Get ready for your summer tri
 ps and learn about hidden gems around our great state!  \nMembers are FREE
 \, guests are only $5.00
DTSTART;TZID=America/Denver:20220510T160000
DTEND;TZID=America/Denver:20220510T170000
LOCATION:225 North Gate Blvd\, colorado springs\, CO 80921 US
SUMMARY:Speakers Bureau Lecture Series: Ghost Towns\, Mining Towns and othe
 r Off the Beaten Path
END:VEVENT
END:VCALENDAR
