BEGIN:VCALENDAR
VERSION:2.0
PRODID:-//wmmi.org//NONSGML kigkonsult.se iCalcreator 2.30.10//
CALSCALE:GREGORIAN
METHOD:PUBLISH
UID:881048e9-732e-4a9d-b366-759029e076fc
X-WR-CALDESC:Thank you Nurses!  FREE Admission during your Nationally recog
 nized week.  (Museum is closed on Sunday)
X-WR-RELCALID:656b4589e5a7201441e60e8117631ce1
X-WR-TIMEZONE:America/Denver
BEGIN:VTIMEZONE
TZID:America/Denver
BEGIN:STANDARD
TZNAME:MST
DTSTART:20211107T020000
TZOFFSETFROM:-0600
TZOFFSETTO:-0700
RDATE:20221106T020000
RDATE:20231105T020000
END:STANDARD
BEGIN:DAYLIGHT
TZNAME:MDT
DTSTART:20220313T020000
TZOFFSETFROM:-0700
TZOFFSETTO:-0600
RDATE:20230312T020000
END:DAYLIGHT
END:VTIMEZONE
BEGIN:VEVENT
UID:283b3ef0-e634-4071-af57-9916a08dea8d
DTSTAMP:20260422T025548Z
DESCRIPTION:Thank you Nurses!  FREE Admission during your Nationally recogn
 ized week.  (Museum is closed on Sunday)
DTSTART;TZID=America/Denver:20220510T000000
DTEND;TZID=America/Denver:20220510T235900
LOCATION:225 North Gate Blvd\, colorado springs\, CO 80921 US
SUMMARY:Nurse Appreciation Week-FREE ADMISSION for Nurses
END:VEVENT
END:VCALENDAR
