BEGIN:VCALENDAR
VERSION:2.0
PRODID:-//wmmi.org//NONSGML kigkonsult.se iCalcreator 2.30.10//
CALSCALE:GREGORIAN
METHOD:PUBLISH
UID:019ec27f-f831-497b-b060-f5fcfbe46bab
X-WR-CALDESC:
X-WR-RELCALID:8acca4c6433ebbaffb749bba080756c8
X-WR-TIMEZONE:America/Denver
BEGIN:VTIMEZONE
TZID:America/Denver
BEGIN:STANDARD
TZNAME:MST
DTSTART:20211107T020000
TZOFFSETFROM:-0600
TZOFFSETTO:-0700
RDATE:20221106T020000
RDATE:20231105T020000
END:STANDARD
BEGIN:DAYLIGHT
TZNAME:MDT
DTSTART:20220313T020000
TZOFFSETFROM:-0700
TZOFFSETTO:-0600
RDATE:20230312T020000
END:DAYLIGHT
END:VTIMEZONE
BEGIN:VEVENT
UID:3fb5d79f-b108-4884-8564-e2b7210091ce
DTSTAMP:20260422T025403Z
DESCRIPTION:
DTSTART;TZID=America/Denver:20220507T140000
DTEND;TZID=America/Denver:20220507T150000
LOCATION:225 North Gate Blvd\, colorado springs\, CO 80921 US
SUMMARY:Celebrate Colorado: Reynolds Ranch Tour
END:VEVENT
END:VCALENDAR
