BEGIN:VCALENDAR
VERSION:2.0
PRODID:-//wmmi.org//NONSGML kigkonsult.se iCalcreator 2.30.10//
CALSCALE:GREGORIAN
METHOD:PUBLISH
UID:4cc31f16-d24d-45bf-900c-9fbd128f9016
X-WR-CALDESC:
X-WR-RELCALID:4109913dfeb47e0ad445d5c68b1b9a40
X-WR-TIMEZONE:America/Denver
BEGIN:VTIMEZONE
TZID:America/Denver
BEGIN:STANDARD
TZNAME:MST
DTSTART:20211107T020000
TZOFFSETFROM:-0600
TZOFFSETTO:-0700
RDATE:20221106T020000
RDATE:20231105T020000
END:STANDARD
BEGIN:DAYLIGHT
TZNAME:MDT
DTSTART:20220313T020000
TZOFFSETFROM:-0700
TZOFFSETTO:-0600
RDATE:20230312T020000
END:DAYLIGHT
END:VTIMEZONE
BEGIN:VEVENT
UID:c4f16ad4-f5e3-4967-a4b2-5319adb85d07
DTSTAMP:20260422T025250Z
DESCRIPTION:
DTSTART;TZID=America/Denver:20220507T110000
DTEND;TZID=America/Denver:20220507T120000
LOCATION:225 North Gate Blvd\, colorado springs\, CO 80921 US
SUMMARY:Celebrate Colorado: Reynolds Ranch Tour
END:VEVENT
END:VCALENDAR
