BEGIN:VCALENDAR
VERSION:2.0
PRODID:-//wmmi.org//NONSGML kigkonsult.se iCalcreator 2.30.10//
CALSCALE:GREGORIAN
METHOD:PUBLISH
UID:40ff79b0-0595-4422-8ee1-95c9662ef6e5
X-WR-CALDESC:Thank you Teachers!  FREE Admission all week. Just show your I
 D.
X-WR-RELCALID:6b68408b836485d340e93d63e667eca3
X-WR-TIMEZONE:America/Denver
BEGIN:VTIMEZONE
TZID:America/Denver
BEGIN:STANDARD
TZNAME:MST
DTSTART:20211107T020000
TZOFFSETFROM:-0600
TZOFFSETTO:-0700
RDATE:20221106T020000
RDATE:20231105T020000
END:STANDARD
BEGIN:DAYLIGHT
TZNAME:MDT
DTSTART:20220313T020000
TZOFFSETFROM:-0700
TZOFFSETTO:-0600
RDATE:20230312T020000
END:DAYLIGHT
END:VTIMEZONE
BEGIN:VEVENT
UID:a5fb2384-2428-418f-95a0-1968a0168dfc
DTSTAMP:20260422T025502Z
DESCRIPTION:Thank you Teachers!  FREE Admission all week. Just show your ID
 .
DTSTART;TZID=America/Denver:20220507T000000
DTEND;TZID=America/Denver:20220507T235900
LOCATION:225 North Gate Blvd\, colorado springs\, CO 80921 US
SUMMARY:Teacher Appreciation Week-Free Admission for Teachers
END:VEVENT
END:VCALENDAR
