BEGIN:VCALENDAR
VERSION:2.0
PRODID:-//wmmi.org//NONSGML kigkonsult.se iCalcreator 2.30.10//
CALSCALE:GREGORIAN
METHOD:PUBLISH
UID:f2addd3f-11c1-47af-abec-5afaec901f74
X-WR-CALDESC:Thank you Nurses!  FREE Admission during your Nationally recog
 nized week.  (Museum is closed on Sunday)
X-WR-RELCALID:8597a5a5ba3dc5cc4d354f3ce0f59b60
X-WR-TIMEZONE:America/Denver
BEGIN:VTIMEZONE
TZID:America/Denver
BEGIN:STANDARD
TZNAME:MST
DTSTART:20211107T020000
TZOFFSETFROM:-0600
TZOFFSETTO:-0700
RDATE:20221106T020000
RDATE:20231105T020000
END:STANDARD
BEGIN:DAYLIGHT
TZNAME:MDT
DTSTART:20220313T020000
TZOFFSETFROM:-0700
TZOFFSETTO:-0600
RDATE:20230312T020000
END:DAYLIGHT
END:VTIMEZONE
BEGIN:VEVENT
UID:7043a8e9-9cef-40e3-8f44-92f864331514
DTSTAMP:20260422T030813Z
DESCRIPTION:Thank you Nurses!  FREE Admission during your Nationally recogn
 ized week.  (Museum is closed on Sunday)
DTSTART;TZID=America/Denver:20220507T000000
DTEND;TZID=America/Denver:20220507T235900
LOCATION:225 North Gate Blvd\, colorado springs\, CO 80921 US
SUMMARY:Nurse Appreciation Week-FREE ADMISSION for Nurses
END:VEVENT
END:VCALENDAR
