BEGIN:VCALENDAR
VERSION:2.0
PRODID:-//wmmi.org//NONSGML kigkonsult.se iCalcreator 2.30.10//
CALSCALE:GREGORIAN
METHOD:PUBLISH
UID:a3abad53-8600-4858-afe8-e0da0508e260
X-WR-CALDESC:WMMI participates in the statewide 'Celebrate Colorado' celebr
 ation with tours of the Reynolds Ranch.  See the Reynolds Ranch Farm House
 \, red Hay Barn\, Ore House and grounds.  Tickets only $3.00 this weekend.
   (Members are FREE) Space is Limited\, please reserve your space in advan
 ce.  This is a walking tour\, dress accordingly.
X-WR-RELCALID:b456d20f28487a408aee27ec76ba99cf
X-WR-TIMEZONE:America/Denver
BEGIN:VTIMEZONE
TZID:America/Denver
BEGIN:STANDARD
TZNAME:MST
DTSTART:20211107T020000
TZOFFSETFROM:-0600
TZOFFSETTO:-0700
RDATE:20221106T020000
RDATE:20231105T020000
END:STANDARD
BEGIN:DAYLIGHT
TZNAME:MDT
DTSTART:20220313T020000
TZOFFSETFROM:-0700
TZOFFSETTO:-0600
RDATE:20230312T020000
END:DAYLIGHT
END:VTIMEZONE
BEGIN:VEVENT
UID:1fe4d8fb-e3b3-4685-80f1-a87c3e9dea72
DTSTAMP:20260422T025251Z
DESCRIPTION:WMMI participates in the statewide 'Celebrate Colorado' celebra
 tion with tours of the Reynolds Ranch.  See the Reynolds Ranch Farm House\
 , red Hay Barn\, Ore House and grounds.  Tickets only $3.00 this weekend. 
  (Members are FREE) Space is Limited\, please reserve your space in advanc
 e.  This is a walking tour\, dress accordingly.
DTSTART;TZID=America/Denver:20220506T110000
DTEND;TZID=America/Denver:20220506T120000
LOCATION:225 North Gate Blvd\, colorado springs\, CO 80921 US
SUMMARY:Celebrate Colorado Weekend: Reynolds Ranch Tours
END:VEVENT
END:VCALENDAR
