BEGIN:VCALENDAR
VERSION:2.0
PRODID:-//wmmi.org//NONSGML kigkonsult.se iCalcreator 2.30.10//
CALSCALE:GREGORIAN
METHOD:PUBLISH
UID:dcb562ad-6c55-40b2-92e1-26b952ef27c2
X-WR-CALDESC:
X-WR-RELCALID:7971eb98204cc8e4105c7663b53dd3c0
X-WR-TIMEZONE:America/Denver
BEGIN:VTIMEZONE
TZID:America/Denver
BEGIN:STANDARD
TZNAME:MST
DTSTART:20211107T020000
TZOFFSETFROM:-0600
TZOFFSETTO:-0700
RDATE:20221106T020000
RDATE:20231105T020000
END:STANDARD
BEGIN:DAYLIGHT
TZNAME:MDT
DTSTART:20220313T020000
TZOFFSETFROM:-0700
TZOFFSETTO:-0600
RDATE:20230312T020000
END:DAYLIGHT
END:VTIMEZONE
BEGIN:VEVENT
UID:73c8a4cb-e5e2-42e1-9719-a04ace346599
DTSTAMP:20260422T025403Z
DESCRIPTION:
DTSTART;TZID=America/Denver:20220506T140000
DTEND;TZID=America/Denver:20220506T170000
LOCATION:225 North Gate Blvd\, colorado springs\, CO 80921 US
SUMMARY:Celebrate Colorado: Reynolds Ranch Tour
END:VEVENT
END:VCALENDAR
