BEGIN:VCALENDAR
VERSION:2.0
PRODID:-//wmmi.org//NONSGML kigkonsult.se iCalcreator 2.30.10//
CALSCALE:GREGORIAN
METHOD:PUBLISH
UID:d5764234-be8e-4446-8c61-818a8a5f3a3f
X-WR-CALDESC:Thank you Teachers!  FREE Admission all week. Just show your I
 D.
X-WR-RELCALID:7c14bdbf45cec03725897758fd49eb8a
X-WR-TIMEZONE:America/Denver
BEGIN:VTIMEZONE
TZID:America/Denver
BEGIN:STANDARD
TZNAME:MST
DTSTART:20211107T020000
TZOFFSETFROM:-0600
TZOFFSETTO:-0700
RDATE:20221106T020000
RDATE:20231105T020000
END:STANDARD
BEGIN:DAYLIGHT
TZNAME:MDT
DTSTART:20220313T020000
TZOFFSETFROM:-0700
TZOFFSETTO:-0600
RDATE:20230312T020000
END:DAYLIGHT
END:VTIMEZONE
BEGIN:VEVENT
UID:da53213a-2327-4b72-9e83-dbb45a5b6922
DTSTAMP:20260422T025611Z
DESCRIPTION:Thank you Teachers!  FREE Admission all week. Just show your ID
 .
DTSTART;TZID=America/Denver:20220506T000000
DTEND;TZID=America/Denver:20220506T235900
LOCATION:225 North Gate Blvd\, colorado springs\, CO 80921 US
SUMMARY:Teacher Appreciation Week-Free Admission for Teachers
END:VEVENT
END:VCALENDAR
