BEGIN:VCALENDAR
VERSION:2.0
PRODID:-//wmmi.org//NONSGML kigkonsult.se iCalcreator 2.30.10//
CALSCALE:GREGORIAN
METHOD:PUBLISH
UID:1ffefb75-bdf8-4f8e-8f28-a5ed04da43fa
X-WR-CALDESC:Thank you Nurses!  FREE Admission during your Nationally recog
 nized week.  (Museum is closed on Sunday)
X-WR-RELCALID:0797ab87bade9a5edf38383a57311675
X-WR-TIMEZONE:America/Denver
BEGIN:VTIMEZONE
TZID:America/Denver
BEGIN:STANDARD
TZNAME:MST
DTSTART:20211107T020000
TZOFFSETFROM:-0600
TZOFFSETTO:-0700
RDATE:20221106T020000
RDATE:20231105T020000
END:STANDARD
BEGIN:DAYLIGHT
TZNAME:MDT
DTSTART:20220313T020000
TZOFFSETFROM:-0700
TZOFFSETTO:-0600
RDATE:20230312T020000
END:DAYLIGHT
END:VTIMEZONE
BEGIN:VEVENT
UID:37a67cc2-1900-4324-bb9b-468c647cd3c1
DTSTAMP:20260422T025420Z
DESCRIPTION:Thank you Nurses!  FREE Admission during your Nationally recogn
 ized week.  (Museum is closed on Sunday)
DTSTART;TZID=America/Denver:20220506T000000
DTEND;TZID=America/Denver:20220506T235900
LOCATION:225 North Gate Blvd\, colorado springs\, CO 80921 US
SUMMARY:Nurse Appreciation Week-FREE ADMISSION for Nurses
END:VEVENT
END:VCALENDAR
