BEGIN:VCALENDAR
VERSION:2.0
PRODID:-//wmmi.org//NONSGML kigkonsult.se iCalcreator 2.30.10//
CALSCALE:GREGORIAN
METHOD:PUBLISH
UID:a501059e-79b8-425d-8bac-0b9c29b3d939
X-WR-CALDESC:Thank you Teachers!  FREE Admission all week. Just show your I
 D.
X-WR-RELCALID:6ac22c9630f392f48ddf6804e6aeaa0f
X-WR-TIMEZONE:America/Denver
BEGIN:VTIMEZONE
TZID:America/Denver
BEGIN:STANDARD
TZNAME:MST
DTSTART:20211107T020000
TZOFFSETFROM:-0600
TZOFFSETTO:-0700
RDATE:20221106T020000
END:STANDARD
BEGIN:DAYLIGHT
TZNAME:MDT
DTSTART:20220313T020000
TZOFFSETFROM:-0700
TZOFFSETTO:-0600
RDATE:20230312T020000
END:DAYLIGHT
END:VTIMEZONE
BEGIN:VEVENT
UID:c4867d71-7863-4f16-a07b-1f42daf012f2
DTSTAMP:20260422T025729Z
DESCRIPTION:Thank you Teachers!  FREE Admission all week. Just show your ID
 .
DTSTART;TZID=America/Denver:20220504T000000
DTEND;TZID=America/Denver:20220504T235900
LOCATION:225 North Gate Blvd\, colorado springs\, CO 80921 US
SUMMARY:Teacher Appreciation Week-Free Admission for Teachers
END:VEVENT
END:VCALENDAR
