BEGIN:VCALENDAR
VERSION:2.0
PRODID:-//wmmi.org//NONSGML kigkonsult.se iCalcreator 2.30.10//
CALSCALE:GREGORIAN
METHOD:PUBLISH
UID:263a4263-b589-4068-b2a4-5dcc65e7faf0
X-WR-CALDESC:Thank you Teachers!  FREE Admission all week. Just show your I
 D.
X-WR-RELCALID:b037e24e0f11f5f8f387b134ff20262c
X-WR-TIMEZONE:America/Denver
BEGIN:VTIMEZONE
TZID:America/Denver
BEGIN:STANDARD
TZNAME:MST
DTSTART:20211107T020000
TZOFFSETFROM:-0600
TZOFFSETTO:-0700
RDATE:20221106T020000
END:STANDARD
BEGIN:DAYLIGHT
TZNAME:MDT
DTSTART:20220313T020000
TZOFFSETFROM:-0700
TZOFFSETTO:-0600
RDATE:20230312T020000
END:DAYLIGHT
END:VTIMEZONE
BEGIN:VEVENT
UID:c99054be-8fb5-4ddc-90e4-a0506d78d09b
DTSTAMP:20260422T025610Z
DESCRIPTION:Thank you Teachers!  FREE Admission all week. Just show your ID
 .
DTSTART;TZID=America/Denver:20220503T000000
DTEND;TZID=America/Denver:20220503T235900
LOCATION:225 North Gate Blvd\, colorado springs\, CO 80921 US
SUMMARY:Teacher Appreciation Week-Free Admission for Teachers
END:VEVENT
END:VCALENDAR
