BEGIN:VCALENDAR
VERSION:2.0
PRODID:-//wmmi.org//NONSGML kigkonsult.se iCalcreator 2.30.10//
CALSCALE:GREGORIAN
METHOD:PUBLISH
UID:de01db5f-c36f-4359-b2cf-e3bc4ebf65f1
X-WR-CALDESC:Thank you Teachers!  FREE Admission all week. Just show your I
 D.
X-WR-RELCALID:8bf64c8ea18352fe362f29311c260e35
X-WR-TIMEZONE:America/Denver
BEGIN:VTIMEZONE
TZID:America/Denver
BEGIN:STANDARD
TZNAME:MST
DTSTART:20211107T020000
TZOFFSETFROM:-0600
TZOFFSETTO:-0700
RDATE:20221106T020000
END:STANDARD
BEGIN:DAYLIGHT
TZNAME:MDT
DTSTART:20220313T020000
TZOFFSETFROM:-0700
TZOFFSETTO:-0600
RDATE:20230312T020000
END:DAYLIGHT
END:VTIMEZONE
BEGIN:VEVENT
UID:9b545add-f0bc-4da4-b7c1-e8d73180a86f
DTSTAMP:20260422T025621Z
DESCRIPTION:Thank you Teachers!  FREE Admission all week. Just show your ID
 .
DTSTART;TZID=America/Denver:20220502T000000
DTEND;TZID=America/Denver:20220502T235900
LOCATION:225 North Gate Blvd\, colorado springs\, CO 80921 US
SUMMARY:Teacher Appreciation Week-Free Admission for Teachers
END:VEVENT
END:VCALENDAR
