BEGIN:VCALENDAR
VERSION:2.0
PRODID:-//wmmi.org//NONSGML kigkonsult.se iCalcreator 2.30.10//
CALSCALE:GREGORIAN
METHOD:PUBLISH
UID:ff379912-555b-4ece-a84f-b769f030c658
X-WR-CALDESC:Two of the Pikes Peak region's best bands (Mosquito Pass and A
 shtōnz) raise the roof at WMMI's first big event of 2022 ... net proceeds 
 go to Wounded Heroes USA\, a locally based nonprofit that helps American m
 ilitary vets get off the street and on their feet (WoundedHeroesUSA.com). 
 Food trucks onsite. Ashtōnz (2021 Best of the Springs winners) kick things
  off at 4:00\, followed by the rockin' country groove of Mosquito Pass at 
 5:30. Join us!
X-WR-RELCALID:368b07bca0ed2fd945b6b95973d58d21
X-WR-TIMEZONE:America/Denver
BEGIN:VTIMEZONE
TZID:America/Denver
BEGIN:STANDARD
TZNAME:MST
DTSTART:20211107T020000
TZOFFSETFROM:-0600
TZOFFSETTO:-0700
RDATE:20221106T020000
END:STANDARD
BEGIN:DAYLIGHT
TZNAME:MDT
DTSTART:20220313T020000
TZOFFSETFROM:-0700
TZOFFSETTO:-0600
RDATE:20230312T020000
END:DAYLIGHT
END:VTIMEZONE
BEGIN:VEVENT
UID:9fef28ac-dbe8-4b70-bc84-8876fcbbb689
DTSTAMP:20260422T042601Z
DESCRIPTION:Two of the Pikes Peak region's best bands (Mosquito Pass and As
 htōnz) raise the roof at WMMI's first big event of 2022 ... net proceeds g
 o to Wounded Heroes USA\, a locally based nonprofit that helps American mi
 litary vets get off the street and on their feet (WoundedHeroesUSA.com). F
 ood trucks onsite. Ashtōnz (2021 Best of the Springs winners) kick things 
 off at 4:00\, followed by the rockin' country groove of Mosquito Pass at 5
 :30. Join us!
DTSTART;TZID=America/Denver:20220423T160000
DTEND;TZID=America/Denver:20220423T190000
LOCATION:
SUMMARY:Bands in the Barn
END:VEVENT
END:VCALENDAR
