BEGIN:VCALENDAR
VERSION:2.0
PRODID:-//wmmi.org//NONSGML kigkonsult.se iCalcreator 2.30.10//
CALSCALE:GREGORIAN
METHOD:PUBLISH
UID:e36b815a-1722-4c0d-be36-747882700f3c
X-WR-CALDESC:Monthly Lecture Series\, featuring Troy Zellars of the Wilfley
  Company.  Members are FREE\, general public is $5.  Tickets go on sale Ma
 rch 1
X-WR-RELCALID:0479fe8295d23c79ee7fad3d05eeed7e
X-WR-TIMEZONE:America/Denver
BEGIN:VTIMEZONE
TZID:America/Denver
BEGIN:STANDARD
TZNAME:MST
DTSTART:20211107T020000
TZOFFSETFROM:-0600
TZOFFSETTO:-0700
RDATE:20221106T020000
END:STANDARD
BEGIN:DAYLIGHT
TZNAME:MDT
DTSTART:20220313T020000
TZOFFSETFROM:-0700
TZOFFSETTO:-0600
RDATE:20230312T020000
END:DAYLIGHT
END:VTIMEZONE
BEGIN:VEVENT
UID:284213cb-b44b-47d0-b7d2-dd8c464752b6
DTSTAMP:20260422T042356Z
DESCRIPTION:Monthly Lecture Series\, featuring Troy Zellars of the Wilfley 
 Company.  Members are FREE\, general public is $5.  Tickets go on sale Mar
 ch 1
DTSTART;TZID=America/Denver:20220412T160000
DTEND;TZID=America/Denver:20220412T170000
LOCATION:225 North Gate Blvd\, colorado springs\, CO 80921 US
SUMMARY:Speakers Bureau Lecture Series featuring Troy Zellars
END:VEVENT
END:VCALENDAR
