BEGIN:VCALENDAR
VERSION:2.0
PRODID:-//wmmi.org//NONSGML kigkonsult.se iCalcreator 2.30.10//
CALSCALE:GREGORIAN
METHOD:PUBLISH
UID:5cb6f33f-0dd2-4f35-939c-d8e1d5e40c0c
X-WR-CALDESC:storytime begins at 9:30am inside the Reynolds Ranch Farm Hous
 e (the beautiful victorian style home at the entrance to the museum proper
 ty)  The PPLD Bookmobile will be in the parking area from 9:45-10:45 with 
 up to 5\,000 volumes for you to borrow!  \nfor more information\, contact 
 your PPLD branch.
X-WR-RELCALID:b264c2efa022d1c0e1cef11671ae8fe4
X-WR-TIMEZONE:America/Denver
BEGIN:VTIMEZONE
TZID:America/Denver
BEGIN:STANDARD
TZNAME:MST
DTSTART:20211107T020000
TZOFFSETFROM:-0600
TZOFFSETTO:-0700
RDATE:20221106T020000
END:STANDARD
BEGIN:DAYLIGHT
TZNAME:MDT
DTSTART:20220313T020000
TZOFFSETFROM:-0700
TZOFFSETTO:-0600
RDATE:20230312T020000
END:DAYLIGHT
END:VTIMEZONE
BEGIN:VEVENT
UID:44db9cd7-5bb0-45ab-8942-3c112e3b66a7
DTSTAMP:20260422T042940Z
DESCRIPTION:storytime begins at 9:30am inside the Reynolds Ranch Farm House
  (the beautiful victorian style home at the entrance to the museum propert
 y)  The PPLD Bookmobile will be in the parking area from 9:45-10:45 with u
 p to 5\,000 volumes for you to borrow!  \nfor more information\, contact y
 our PPLD branch.
DTSTART;TZID=America/Denver:20220411T093000
DTEND;TZID=America/Denver:20220411T104500
LOCATION:225 North Gate Blvd\, colorado springs\, CO 80921 US
SUMMARY:PPLD Storytime & Bookmobile
END:VEVENT
END:VCALENDAR
