BEGIN:VCALENDAR
VERSION:2.0
PRODID:-//wmmi.org//NONSGML kigkonsult.se iCalcreator 2.30.10//
CALSCALE:GREGORIAN
METHOD:PUBLISH
UID:64e53129-1ef0-4210-86b7-72b923b659f0
X-WR-CALDESC:Monthly Lecture Series.   Members are FREE\, general public is
  $5.
X-WR-RELCALID:f6dfd774aa29426edd4dfc01acf8378e
X-WR-TIMEZONE:America/Denver
BEGIN:VTIMEZONE
TZID:America/Denver
BEGIN:STANDARD
TZNAME:MST
DTSTART:20211107T020000
TZOFFSETFROM:-0600
TZOFFSETTO:-0700
RDATE:20221106T020000
END:STANDARD
BEGIN:DAYLIGHT
TZNAME:MDT
DTSTART:20220313T020000
TZOFFSETFROM:-0700
TZOFFSETTO:-0600
RDATE:20230312T020000
END:DAYLIGHT
END:VTIMEZONE
BEGIN:VEVENT
UID:6ee7a9f2-6e0e-453f-8ef7-e16322c3040b
DTSTAMP:20260422T054852Z
DESCRIPTION:Monthly Lecture Series.   Members are FREE\, general public is 
 $5.
DTSTART;TZID=America/Denver:20220315T160000
DTEND;TZID=America/Denver:20220315T170000
LOCATION:225 North Gate Blvd\, colorado springs\, CO 80921 US
SUMMARY:Speakers Bureau Lecture Series featuring Steven Veatch
END:VEVENT
END:VCALENDAR
