BEGIN:VCALENDAR
VERSION:2.0
PRODID:-//wmmi.org//NONSGML kigkonsult.se iCalcreator 2.30.10//
CALSCALE:GREGORIAN
METHOD:PUBLISH
UID:eedb0c14-bf8c-45da-bb84-ebf8d0e8b454
X-WR-CALDESC:Please donate NEW baseballs\, new or gently used bats or glove
 s for children in need.  Monetary donations accepted as well. The Mike Boy
 le Restaurant Show will take these to a community with great needs.  Pay i
 t Forward!\n**from the Mike Boyle Website:\nTaking new and used baseball e
 quipment to the kids in some of the villages.  Have been doing this for ye
 ars\, all made possible by the generosity of listeners.  A one week trip t
 o the Dreams Resort in the beautiful La Romana area.  Rockies organization
  will arrange for me to take the gathered equipment out to where they can 
 really use the help.  I also take cash donations with all the money going 
 to buy more equipment.  These trips over the years have helped literally t
 housands of kids. To see the impact we are having\, please check out pictu
 res on my website\, and the blog about the trips. I thank you in  advance\
 , and for your continued support.  If you think you would like to go with 
 me\, let me know.\n
X-WR-RELCALID:e4bb8599215829f1e4cd473774849d8e
X-WR-TIMEZONE:America/Chicago
BEGIN:VTIMEZONE
TZID:America/Chicago
BEGIN:STANDARD
TZNAME:CST
DTSTART:20211107T020000
TZOFFSETFROM:-0500
TZOFFSETTO:-0600
RDATE:20221106T020000
END:STANDARD
BEGIN:DAYLIGHT
TZNAME:CDT
DTSTART:20220313T020000
TZOFFSETFROM:-0600
TZOFFSETTO:-0500
RDATE:20230312T020000
END:DAYLIGHT
END:VTIMEZONE
BEGIN:VEVENT
UID:d45d46d2-58c2-4d42-93ca-ca88c2cc4f34
DTSTAMP:20260422T054616Z
DESCRIPTION:Please donate NEW baseballs\, new or gently used bats or gloves
  for children in need.  Monetary donations accepted as well. The Mike Boyl
 e Restaurant Show will take these to a community with great needs.  Pay it
  Forward!\n**from the Mike Boyle Website:\nTaking new and used baseball eq
 uipment to the kids in some of the villages.  Have been doing this for yea
 rs\, all made possible by the generosity of listeners.  A one week trip to
  the Dreams Resort in the beautiful La Romana area.  Rockies organization 
 will arrange for me to take the gathered equipment out to where they can r
 eally use the help.  I also take cash donations with all the money going t
 o buy more equipment.  These trips over the years have helped literally th
 ousands of kids. To see the impact we are having\, please check out pictur
 es on my website\, and the blog about the trips. I thank you in  advance\,
  and for your continued support.  If you think you would like to go with m
 e\, let me know.\n
DTSTART;TZID=America/Chicago:20220315T090000
DTEND;TZID=America/Chicago:20220331T160000
LOCATION:225 North Gate Blvd\, colorado springs\, CO 80921 US
SUMMARY:Baseball Gear Collection for the Mike Boyle trip to Mexico
END:VEVENT
END:VCALENDAR
