BEGIN:VCALENDAR
VERSION:2.0
PRODID:-//wmmi.org//NONSGML kigkonsult.se iCalcreator 2.30.10//
CALSCALE:GREGORIAN
METHOD:PUBLISH
UID:71d4dbd4-ce39-48b2-9175-bc6654b4ba3e
X-WR-CALDESC:storytime begins at 9:30am inside the Reynolds Ranch Farm Hous
 e (the beautiful victorian style home at the entrance to the museum proper
 ty)  The PPLD Bookmobile will be in the parking area from 9:45-10:45 with 
 up to 5\,000 volumes for you to borrow!  \nfor more information\, contact 
 your PPLD branch.
X-WR-RELCALID:85261fd7828c16247ab7a78b2ae94620
X-WR-TIMEZONE:America/Denver
BEGIN:VTIMEZONE
TZID:America/Denver
BEGIN:STANDARD
TZNAME:MST
DTSTART:20211107T020000
TZOFFSETFROM:-0600
TZOFFSETTO:-0700
RDATE:20221106T020000
END:STANDARD
BEGIN:DAYLIGHT
TZNAME:MDT
DTSTART:20210314T020000
TZOFFSETFROM:-0700
TZOFFSETTO:-0600
RDATE:20220313T020000
RDATE:20230312T020000
END:DAYLIGHT
END:VTIMEZONE
BEGIN:VEVENT
UID:9b37c71d-7e55-4c47-8292-8f2209dfee92
DTSTAMP:20260422T055155Z
DESCRIPTION:storytime begins at 9:30am inside the Reynolds Ranch Farm House
  (the beautiful victorian style home at the entrance to the museum propert
 y)  The PPLD Bookmobile will be in the parking area from 9:45-10:45 with u
 p to 5\,000 volumes for you to borrow!  \nfor more information\, contact y
 our PPLD branch.
DTSTART;TZID=America/Denver:20220314T093000
DTEND;TZID=America/Denver:20220314T104500
LOCATION:225 North Gate Blvd\, colorado springs\, CO 80921 US
SUMMARY:PPLD Storytime & Bookmobile
END:VEVENT
END:VCALENDAR
