BEGIN:VCALENDAR
VERSION:2.0
PRODID:-//wmmi.org//NONSGML kigkonsult.se iCalcreator 2.30.10//
CALSCALE:GREGORIAN
METHOD:PUBLISH
UID:b9d257a2-a04b-4d2e-97ed-35848bfc8d2b
X-WR-CALDESC:Join us for a day of activities and demonstrations featuring G
 EOLOGY\nRegular Admission rates apply (Museum Members are FREE)
X-WR-RELCALID:c06e137633d7bd52df4a42891943fcd8
X-WR-TIMEZONE:America/Denver
BEGIN:VTIMEZONE
TZID:America/Denver
BEGIN:STANDARD
TZNAME:MST
DTSTART:20211107T020000
TZOFFSETFROM:-0600
TZOFFSETTO:-0700
RDATE:20221106T020000
END:STANDARD
BEGIN:DAYLIGHT
TZNAME:MDT
DTSTART:20210314T020000
TZOFFSETFROM:-0700
TZOFFSETTO:-0600
RDATE:20220313T020000
RDATE:20230312T020000
END:DAYLIGHT
END:VTIMEZONE
BEGIN:VEVENT
UID:22107627-3b8b-40e0-a720-a5a1c12f9c93
DTSTAMP:20260422T090633Z
DESCRIPTION:Join us for a day of activities and demonstrations featuring GE
 OLOGY\nRegular Admission rates apply (Museum Members are FREE)
DTSTART;TZID=America/Denver:20220122T100000
DTEND;TZID=America/Denver:20220122T140000
LOCATION:225 North Gate Blvd\, colorado springs\, CO 80921 US
SUMMARY:Geology Day
END:VEVENT
END:VCALENDAR
