BEGIN:VCALENDAR
VERSION:2.0
PRODID:-//wmmi.org//NONSGML kigkonsult.se iCalcreator 2.30.10//
CALSCALE:GREGORIAN
METHOD:PUBLISH
UID:22fb1eb8-707c-4871-a3a2-6045e6a15cf6
X-WR-CALDESC:Winter Break STEaM Camp:  Select as many days as you would lik
 e! (Discount for all 5 days)
X-WR-RELCALID:b510f4238d45d094c4e158fddf0eccb7
X-WR-TIMEZONE:America/Denver
BEGIN:VTIMEZONE
TZID:America/Denver
BEGIN:STANDARD
TZNAME:MST
DTSTART:20211107T020000
TZOFFSETFROM:-0600
TZOFFSETTO:-0700
RDATE:20221106T020000
END:STANDARD
BEGIN:DAYLIGHT
TZNAME:MDT
DTSTART:20210314T020000
TZOFFSETFROM:-0700
TZOFFSETTO:-0600
RDATE:20220313T020000
RDATE:20230312T020000
END:DAYLIGHT
END:VTIMEZONE
BEGIN:VEVENT
UID:b0905109-25d4-4b03-ab20-947fe420bd54
DTSTAMP:20260422T085916Z
DESCRIPTION:Winter Break STEaM Camp:  Select as many days as you would like
 ! (Discount for all 5 days)
DTSTART;TZID=America/Denver:20220104T090000
DTEND;TZID=America/Denver:20220104T150000
LOCATION:225 North Gate Blvd\, colorado springs\, CO 80921 US
SUMMARY:Winter Break STEaM Camp: Mining & Industry
END:VEVENT
END:VCALENDAR
