BEGIN:VCALENDAR
VERSION:2.0
PRODID:-//wmmi.org//NONSGML kigkonsult.se iCalcreator 2.30.10//
CALSCALE:GREGORIAN
METHOD:PUBLISH
UID:8bd38989-1b16-4f6b-9f66-df0b83e6ca1e
X-WR-CALDESC:
X-WR-RELCALID:afd20a813d0e65a8d078409e8480966e
X-WR-TIMEZONE:America/Chicago
BEGIN:VTIMEZONE
TZID:America/Chicago
BEGIN:STANDARD
TZNAME:CST
DTSTART:20211107T020000
TZOFFSETFROM:-0500
TZOFFSETTO:-0600
RDATE:20221106T020000
END:STANDARD
BEGIN:DAYLIGHT
TZNAME:CDT
DTSTART:20210314T020000
TZOFFSETFROM:-0600
TZOFFSETTO:-0500
RDATE:20220313T020000
RDATE:20230312T020000
END:DAYLIGHT
END:VTIMEZONE
BEGIN:VEVENT
UID:9516259e-2ccb-45dc-ac86-ae47641b02f1
DTSTAMP:20260424T093525Z
DESCRIPTION:
DTSTART;TZID=America/Chicago:20211231T000000
DTEND;TZID=America/Chicago:20211231T235900
LOCATION:
SUMMARY:New Year's Eve-Closes at 2pm
END:VEVENT
END:VCALENDAR
