BEGIN:VCALENDAR
VERSION:2.0
PRODID:-//wmmi.org//NONSGML kigkonsult.se iCalcreator 2.30.10//
CALSCALE:GREGORIAN
METHOD:PUBLISH
UID:b7ce43fc-dc49-4731-9be4-4481f494fc97
X-WR-CALDESC:
X-WR-RELCALID:4afea4dda6bd801c0670549074bcd458
X-WR-TIMEZONE:America/Denver
BEGIN:VTIMEZONE
TZID:America/Denver
BEGIN:STANDARD
TZNAME:MST
DTSTART:20211107T020000
TZOFFSETFROM:-0600
TZOFFSETTO:-0700
RDATE:20221106T020000
END:STANDARD
BEGIN:DAYLIGHT
TZNAME:MDT
DTSTART:20210314T020000
TZOFFSETFROM:-0700
TZOFFSETTO:-0600
RDATE:20220313T020000
RDATE:20230312T020000
END:DAYLIGHT
END:VTIMEZONE
BEGIN:VEVENT
UID:ac4aa7b8-6d99-4045-8d04-85bc369ee2c6
DTSTAMP:20260422T103834Z
DESCRIPTION:
DTSTART;TZID=America/Denver:20211229T090000
DTEND;TZID=America/Denver:20211229T150000
LOCATION:225 North Gate Blvd\, colorado springs\, CO 80921 US
SUMMARY:Winter Break STEaM CAmp: Chemistry Day
END:VEVENT
END:VCALENDAR
