BEGIN:VCALENDAR
VERSION:2.0
PRODID:-//wmmi.org//NONSGML kigkonsult.se iCalcreator 2.30.10//
CALSCALE:GREGORIAN
METHOD:PUBLISH
UID:780c719e-d5f4-422e-a444-f1e6eaecb3a8
X-WR-CALDESC:
X-WR-RELCALID:5a4f49ea834004a080a629e0f589d17e
X-WR-TIMEZONE:America/Chicago
BEGIN:VTIMEZONE
TZID:America/Chicago
BEGIN:STANDARD
TZNAME:CST
DTSTART:20211107T020000
TZOFFSETFROM:-0500
TZOFFSETTO:-0600
RDATE:20221106T020000
END:STANDARD
BEGIN:DAYLIGHT
TZNAME:CDT
DTSTART:20210314T020000
TZOFFSETFROM:-0600
TZOFFSETTO:-0500
RDATE:20220313T020000
RDATE:20230312T020000
END:DAYLIGHT
END:VTIMEZONE
BEGIN:VEVENT
UID:735405dc-f84f-4ebd-aaee-e1e58cb989b1
DTSTAMP:20260422T104228Z
DESCRIPTION:
DTSTART;TZID=America/Chicago:20211225T000000
DTEND;TZID=America/Chicago:20211225T005900
LOCATION:
SUMMARY:Christmas Day-Museum Closed
END:VEVENT
END:VCALENDAR
