BEGIN:VCALENDAR
VERSION:2.0
PRODID:-//wmmi.org//NONSGML kigkonsult.se iCalcreator 2.30.10//
CALSCALE:GREGORIAN
METHOD:PUBLISH
UID:25e5f612-3cf1-4054-a32b-b640aeb8e31c
X-WR-CALDESC:
X-WR-RELCALID:67cfa8be443214f66893bb33bf9730e9
X-WR-TIMEZONE:America/Chicago
BEGIN:VTIMEZONE
TZID:America/Chicago
BEGIN:STANDARD
TZNAME:CST
DTSTART:20211107T020000
TZOFFSETFROM:-0500
TZOFFSETTO:-0600
RDATE:20221106T020000
END:STANDARD
BEGIN:DAYLIGHT
TZNAME:CDT
DTSTART:20210314T020000
TZOFFSETFROM:-0600
TZOFFSETTO:-0500
RDATE:20220313T020000
RDATE:20230312T020000
END:DAYLIGHT
END:VTIMEZONE
BEGIN:VEVENT
UID:6f06cc7d-16ae-47b4-b195-2c3747030551
DTSTAMP:20260424T094002Z
DESCRIPTION:
DTSTART;TZID=America/Chicago:20211224T000000
DTEND;TZID=America/Chicago:20211224T235900
LOCATION:
SUMMARY:Christmas Eve\, Close 2pm
END:VEVENT
END:VCALENDAR
