BEGIN:VCALENDAR
VERSION:2.0
PRODID:-//wmmi.org//NONSGML kigkonsult.se iCalcreator 2.30.10//
CALSCALE:GREGORIAN
METHOD:PUBLISH
UID:414b33e6-2152-4753-a779-8564c9dc1a7a
X-WR-CALDESC:Winter Break STEaM Camp:  Select as many days as you would lik
 e! (Discount for all 5 days)
X-WR-RELCALID:3e8d482a0c250bc26495e0bf0a910d91
X-WR-TIMEZONE:America/Denver
BEGIN:VTIMEZONE
TZID:America/Denver
BEGIN:STANDARD
TZNAME:MST
DTSTART:20211107T020000
TZOFFSETFROM:-0600
TZOFFSETTO:-0700
RDATE:20221106T020000
END:STANDARD
BEGIN:DAYLIGHT
TZNAME:MDT
DTSTART:20210314T020000
TZOFFSETFROM:-0700
TZOFFSETTO:-0600
RDATE:20220313T020000
RDATE:20230312T020000
END:DAYLIGHT
END:VTIMEZONE
BEGIN:VEVENT
UID:7315a737-a34c-47db-95db-177771ba5789
DTSTAMP:20260422T103334Z
DESCRIPTION:Winter Break STEaM Camp:  Select as many days as you would like
 ! (Discount for all 5 days)
DTSTART;TZID=America/Denver:20211222T090000
DTEND;TZID=America/Denver:20211222T150000
LOCATION:225 North Gate Blvd\, colorado springs\, CO 80921 US
SUMMARY:STEaM Camp: Electricity
END:VEVENT
END:VCALENDAR
