BEGIN:VCALENDAR
VERSION:2.0
PRODID:-//wmmi.org//NONSGML kigkonsult.se iCalcreator 2.30.10//
CALSCALE:GREGORIAN
METHOD:PUBLISH
UID:69bcec16-921b-4466-b937-e660a4190ba6
X-WR-CALDESC:Winter Break STEaM Camp:  Select as many days as you would lik
 e! (Discount for all 5 days)
X-WR-RELCALID:4dc16f359c5e0649427efffc30ae7249
X-WR-TIMEZONE:America/Denver
BEGIN:VTIMEZONE
TZID:America/Denver
BEGIN:STANDARD
TZNAME:MST
DTSTART:20211107T020000
TZOFFSETFROM:-0600
TZOFFSETTO:-0700
RDATE:20221106T020000
END:STANDARD
BEGIN:DAYLIGHT
TZNAME:MDT
DTSTART:20210314T020000
TZOFFSETFROM:-0700
TZOFFSETTO:-0600
RDATE:20220313T020000
RDATE:20230312T020000
END:DAYLIGHT
END:VTIMEZONE
BEGIN:VEVENT
UID:33bb7dad-c96c-4e7d-8d2e-49305ecfc165
DTSTAMP:20260422T102309Z
DESCRIPTION:Winter Break STEaM Camp:  Select as many days as you would like
 ! (Discount for all 5 days)
DTSTART;TZID=America/Denver:20211221T090000
DTEND;TZID=America/Denver:20211221T150000
LOCATION:
SUMMARY:STEaM Camp -Physics
END:VEVENT
END:VCALENDAR
