BEGIN:VCALENDAR
VERSION:2.0
PRODID:-//wmmi.org//NONSGML kigkonsult.se iCalcreator 2.30.10//
CALSCALE:GREGORIAN
METHOD:PUBLISH
UID:a9a4c312-9066-457f-9025-87f903b87294
X-WR-CALDESC:
X-WR-RELCALID:0de18b302371cf264b11909ab2dcab62
X-WR-TIMEZONE:America/Denver
BEGIN:VTIMEZONE
TZID:America/Denver
BEGIN:STANDARD
TZNAME:MST
DTSTART:20211107T020000
TZOFFSETFROM:-0600
TZOFFSETTO:-0700
RDATE:20221106T020000
END:STANDARD
BEGIN:DAYLIGHT
TZNAME:MDT
DTSTART:20210314T020000
TZOFFSETFROM:-0700
TZOFFSETTO:-0600
RDATE:20220313T020000
RDATE:20230312T020000
END:DAYLIGHT
END:VTIMEZONE
BEGIN:VEVENT
UID:944ff100-3628-4f3b-93eb-42e0a117ce14
DTSTAMP:20260422T103622Z
DESCRIPTION:
DTSTART;TZID=America/Denver:20211206T000000
DTEND;TZID=America/Denver:20211206T235900
LOCATION:
SUMMARY:National Miners Day-Free Admission to Miners
END:VEVENT
END:VCALENDAR
