BEGIN:VCALENDAR
VERSION:2.0
PRODID:-//wmmi.org//NONSGML kigkonsult.se iCalcreator 2.30.10//
CALSCALE:GREGORIAN
METHOD:PUBLISH
UID:b30d94ce-ef62-435e-a347-c0b66264836e
X-WR-CALDESC:Our own Reynolds Ranch House has been selected as a home for t
 he annual Tri-Lakes Women's Club fundraiser. November 19 & 20\, 10am - 4pm
 . Professional decorators will turn the Victorian Home into a holiday mast
 erpiece.  Tickets and details at https://www.joysoftheseasonht.org
X-WR-RELCALID:b1f54822045dd6e90a21ed6e6da0b78c
X-WR-TIMEZONE:America/Denver
BEGIN:VTIMEZONE
TZID:America/Denver
BEGIN:STANDARD
TZNAME:MST
DTSTART:20211107T020000
TZOFFSETFROM:-0600
TZOFFSETTO:-0700
RDATE:20221106T020000
END:STANDARD
BEGIN:DAYLIGHT
TZNAME:MDT
DTSTART:20210314T020000
TZOFFSETFROM:-0700
TZOFFSETTO:-0600
RDATE:20220313T020000
RDATE:20230312T020000
END:DAYLIGHT
END:VTIMEZONE
BEGIN:VEVENT
UID:5d60c3f6-b717-4817-81a6-cc60efd739ec
DTSTAMP:20260424T105421Z
DESCRIPTION:Our own Reynolds Ranch House has been selected as a home for th
 e annual Tri-Lakes Women's Club fundraiser. November 19 & 20\, 10am - 4pm.
  Professional decorators will turn the Victorian Home into a holiday maste
 rpiece.  Tickets and details at https://www.joysoftheseasonht.org
DTSTART;TZID=America/Denver:20211119T100000
DTEND;TZID=America/Denver:20211119T160000
LOCATION:225 North Gate Blvd\, colorado springs\, CO 80921 US
SUMMARY:Holiday Home Tour at Reynolds Ranch House
END:VEVENT
END:VCALENDAR
