BEGIN:VCALENDAR
VERSION:2.0
PRODID:-//wmmi.org//NONSGML kigkonsult.se iCalcreator 2.30.10//
CALSCALE:GREGORIAN
METHOD:PUBLISH
UID:8d69c9b3-c5c1-4e14-bfe4-ae2cecbb6430
X-WR-CALDESC:
X-WR-RELCALID:0d131523f6bf0f6298490ff81eb3788f
X-WR-TIMEZONE:America/Denver
BEGIN:VTIMEZONE
TZID:America/Denver
BEGIN:STANDARD
TZNAME:MST
DTSTART:20211107T020000
TZOFFSETFROM:-0600
TZOFFSETTO:-0700
RDATE:20221106T020000
END:STANDARD
BEGIN:DAYLIGHT
TZNAME:MDT
DTSTART:20210314T020000
TZOFFSETFROM:-0700
TZOFFSETTO:-0600
RDATE:20220313T020000
RDATE:20230312T020000
END:DAYLIGHT
END:VTIMEZONE
BEGIN:VEVENT
UID:fc231d6b-06e0-49b3-a3c4-138d4e1861b2
DTSTAMP:20260424T105148Z
DESCRIPTION:
DTSTART;TZID=America/Denver:20211109T160000
DTEND;TZID=America/Denver:20211109T170000
LOCATION:
SUMMARY:Speaker's Bureau Monthly Lecture Series: One Blast for Success
END:VEVENT
END:VCALENDAR
