BEGIN:VCALENDAR
VERSION:2.0
PRODID:-//wmmi.org//NONSGML kigkonsult.se iCalcreator 2.30.10//
CALSCALE:GREGORIAN
METHOD:PUBLISH
UID:f7553f0c-68b9-4248-8b5c-bf8c8e2fe244
X-WR-CALDESC:Join us for the annual FALL FUNDRAISER to benefit the Western 
 Museum of Mining and Industry:   hay rides\, hay maze & slide\, life size 
 games\, vintage apple cider press\, blacksmith shop--and of course PUMPKIN
 S!  There will be food trucks and lots of opportunities for family fun. \n
 We recommend you purchase your tickets in advance
X-WR-RELCALID:ddc52c8a882182621039d5aae909d66e
X-WR-TIMEZONE:America/Denver
BEGIN:VTIMEZONE
TZID:America/Denver
BEGIN:STANDARD
TZNAME:MST
DTSTART:20201101T020000
TZOFFSETFROM:-0600
TZOFFSETTO:-0700
RDATE:20211107T020000
RDATE:20221106T020000
END:STANDARD
BEGIN:DAYLIGHT
TZNAME:MDT
DTSTART:20210314T020000
TZOFFSETFROM:-0700
TZOFFSETTO:-0600
RDATE:20220313T020000
RDATE:20230312T020000
END:DAYLIGHT
END:VTIMEZONE
BEGIN:VEVENT
UID:35d38516-1f79-49ba-a0ea-d3359493f3c0
DTSTAMP:20260424T115924Z
DESCRIPTION:Join us for the annual FALL FUNDRAISER to benefit the Western M
 useum of Mining and Industry:   hay rides\, hay maze & slide\, life size g
 ames\, vintage apple cider press\, blacksmith shop--and of course PUMPKINS
 !  There will be food trucks and lots of opportunities for family fun. \nW
 e recommend you purchase your tickets in advance
DTSTART;TZID=America/Denver:20211016T090000
DTEND;TZID=America/Denver:20211016T160000
LOCATION:225 North Gate Blvd\, colorado springs\, CO 80921 US
SUMMARY:Miners' Pumpkin Patch
END:VEVENT
END:VCALENDAR
