BEGIN:VCALENDAR
VERSION:2.0
PRODID:-//wmmi.org//NONSGML kigkonsult.se iCalcreator 2.30.10//
CALSCALE:GREGORIAN
METHOD:PUBLISH
UID:5c36c3f1-8a38-490c-9b3b-0f969c163eab
X-WR-CALDESC:
X-WR-RELCALID:66f887a5ce29a3bcc6434a7e5ba0955e
X-WR-TIMEZONE:America/Denver
BEGIN:VTIMEZONE
TZID:America/Denver
BEGIN:STANDARD
TZNAME:MST
DTSTART:20201101T020000
TZOFFSETFROM:-0600
TZOFFSETTO:-0700
RDATE:20211107T020000
RDATE:20221106T020000
END:STANDARD
BEGIN:DAYLIGHT
TZNAME:MDT
DTSTART:20210314T020000
TZOFFSETFROM:-0700
TZOFFSETTO:-0600
RDATE:20220313T020000
RDATE:20230312T020000
END:DAYLIGHT
END:VTIMEZONE
BEGIN:VEVENT
UID:b62bebf4-287d-4564-9d24-827a51a53fef
DTSTAMP:20260424T115659Z
DESCRIPTION:
DTSTART;TZID=America/Denver:20211012T160000
DTEND;TZID=America/Denver:20211012T170000
LOCATION:
SUMMARY:Speaker's Bureau Monthly Lecture: Fox Farming in El Paso County
END:VEVENT
END:VCALENDAR
