BEGIN:VCALENDAR
VERSION:2.0
PRODID:-//wmmi.org//NONSGML kigkonsult.se iCalcreator 2.30.10//
CALSCALE:GREGORIAN
METHOD:PUBLISH
UID:716dc654-55df-48d6-aeb4-1ee6b5d3577d
X-WR-CALDESC:Join us for the annual FALL FUNDRAISER to benefit the Western 
 Museum of Mining and Industry:   hay rides\, hay maze & slide\, life size 
 games\, vintage apple cider press\, blacksmith shop--and of course PUMPKIN
 S!  There will be food trucks and lots of opportunities for family fun. \n
 We recommend you purchase your tickets in advance
X-WR-RELCALID:bcb5b48fb00f31b0c799e9fad6075d0c
X-WR-TIMEZONE:America/Denver
BEGIN:VTIMEZONE
TZID:America/Denver
BEGIN:STANDARD
TZNAME:MST
DTSTART:20201101T020000
TZOFFSETFROM:-0600
TZOFFSETTO:-0700
RDATE:20211107T020000
RDATE:20221106T020000
END:STANDARD
BEGIN:DAYLIGHT
TZNAME:MDT
DTSTART:20210314T020000
TZOFFSETFROM:-0700
TZOFFSETTO:-0600
RDATE:20220313T020000
RDATE:20230312T020000
END:DAYLIGHT
END:VTIMEZONE
BEGIN:VEVENT
UID:6d1e6303-9f20-404e-92aa-f6dbfed028b4
DTSTAMP:20260424T115245Z
DESCRIPTION:Join us for the annual FALL FUNDRAISER to benefit the Western M
 useum of Mining and Industry:   hay rides\, hay maze & slide\, life size g
 ames\, vintage apple cider press\, blacksmith shop--and of course PUMPKINS
 !  There will be food trucks and lots of opportunities for family fun. \nW
 e recommend you purchase your tickets in advance
DTSTART;TZID=America/Denver:20211009T090000
DTEND;TZID=America/Denver:20211009T160000
LOCATION:225 North Gate Blvd\, colorado springs\, CO 80921 US
SUMMARY:Miners' Pumpkin Patch
END:VEVENT
END:VCALENDAR
