BEGIN:VCALENDAR
VERSION:2.0
PRODID:-//wmmi.org//NONSGML kigkonsult.se iCalcreator 2.30.10//
CALSCALE:GREGORIAN
METHOD:PUBLISH
UID:7bc3aa2b-3ba4-45fb-abfe-f781a4ea8298
X-WR-CALDESC:Find fresh fruits and vegetables\, plus local honey!  Addition
 al vendors make appearances each Wednesday.  there is always something new
  and delicious at the Farmers Market
X-WR-RELCALID:55e6c3567985ee131adce8af88a73404
X-WR-TIMEZONE:America/Denver
BEGIN:VTIMEZONE
TZID:America/Denver
BEGIN:STANDARD
TZNAME:MST
DTSTART:20201101T020000
TZOFFSETFROM:-0600
TZOFFSETTO:-0700
RDATE:20211107T020000
RDATE:20221106T020000
END:STANDARD
BEGIN:DAYLIGHT
TZNAME:MDT
DTSTART:20210314T020000
TZOFFSETFROM:-0700
TZOFFSETTO:-0600
RDATE:20220313T020000
RDATE:20230312T020000
END:DAYLIGHT
END:VTIMEZONE
BEGIN:VEVENT
UID:ea048040-bead-4042-aa65-93710c2e759f
DTSTAMP:20260424T132257Z
DESCRIPTION:Find fresh fruits and vegetables\, plus local honey!  Additiona
 l vendors make appearances each Wednesday.  there is always something new 
 and delicious at the Farmers Market
DTSTART;TZID=America/Denver:20210929T100000
DTEND;TZID=America/Denver:20210929T170000
LOCATION:
SUMMARY:Farmers Market
END:VEVENT
END:VCALENDAR
