BEGIN:VCALENDAR
VERSION:2.0
PRODID:-//wmmi.org//NONSGML kigkonsult.se iCalcreator 2.30.10//
CALSCALE:GREGORIAN
METHOD:PUBLISH
UID:7b911b71-1da0-4ffe-a1ad-06e58bc8434c
X-WR-CALDESC:Fresh\, local fruits and vegetables\, plus other guest vendors
  each week.  There is always something new at the Farmers Market
X-WR-RELCALID:905bed99d56d72ea7d7908b403f0ef50
X-WR-TIMEZONE:America/Denver
BEGIN:VTIMEZONE
TZID:America/Denver
BEGIN:STANDARD
TZNAME:MST
DTSTART:20201101T020000
TZOFFSETFROM:-0600
TZOFFSETTO:-0700
RDATE:20211107T020000
RDATE:20221106T020000
END:STANDARD
BEGIN:DAYLIGHT
TZNAME:MDT
DTSTART:20210314T020000
TZOFFSETFROM:-0700
TZOFFSETTO:-0600
RDATE:20220313T020000
RDATE:20230312T020000
END:DAYLIGHT
END:VTIMEZONE
BEGIN:VEVENT
UID:65921bd1-b534-4c39-9340-5fddf016dbe1
DTSTAMP:20260424T132256Z
DESCRIPTION:Fresh\, local fruits and vegetables\, plus other guest vendors 
 each week.  There is always something new at the Farmers Market
DTSTART;TZID=America/Denver:20210927T100000
DTEND;TZID=America/Denver:20210927T170000
LOCATION:
SUMMARY:Farmers Market
END:VEVENT
END:VCALENDAR
