BEGIN:VCALENDAR
VERSION:2.0
PRODID:-//wmmi.org//NONSGML kigkonsult.se iCalcreator 2.30.10//
CALSCALE:GREGORIAN
METHOD:PUBLISH
UID:f67d7159-bc39-44ad-b0a3-07ab5715ccfb
X-WR-CALDESC:This Community event takes place on the WMMI campus.  Please c
 ontact the Oktoberfest organizers directly for information or tickets.  ht
 tps://csoktoberfest.com
X-WR-RELCALID:fbbfa9245e3b464870221a99ad14bb13
X-WR-TIMEZONE:America/Denver
BEGIN:VTIMEZONE
TZID:America/Denver
BEGIN:STANDARD
TZNAME:MST
DTSTART:20201101T020000
TZOFFSETFROM:-0600
TZOFFSETTO:-0700
RDATE:20211107T020000
RDATE:20221106T020000
END:STANDARD
BEGIN:DAYLIGHT
TZNAME:MDT
DTSTART:20210314T020000
TZOFFSETFROM:-0700
TZOFFSETTO:-0600
RDATE:20220313T020000
RDATE:20230312T020000
END:DAYLIGHT
END:VTIMEZONE
BEGIN:VEVENT
UID:9652d7bc-b72f-490f-9582-4ce22c51bbdf
DTSTAMP:20260424T131734Z
DESCRIPTION:This Community event takes place on the WMMI campus.  Please co
 ntact the Oktoberfest organizers directly for information or tickets.  htt
 ps://csoktoberfest.com
DTSTART;TZID=America/Denver:20210924T000000
DTEND;TZID=America/Denver:20210926T235900
LOCATION:
SUMMARY:Oktoberfest (Community Event)
END:VEVENT
END:VCALENDAR
