BEGIN:VCALENDAR
VERSION:2.0
PRODID:-//wmmi.org//NONSGML kigkonsult.se iCalcreator 2.30.10//
CALSCALE:GREGORIAN
METHOD:PUBLISH
UID:23ff61aa-46b1-40f2-883d-525b5e281ffb
X-WR-CALDESC:Fresh\, local fruits and vegetables\, plus other guest vendors
  each week.  There is always something new at the Farmers Market
X-WR-RELCALID:b1f3543933d390ddd9b460602c1f3622
X-WR-TIMEZONE:America/Denver
BEGIN:VTIMEZONE
TZID:America/Denver
BEGIN:STANDARD
TZNAME:MST
DTSTART:20201101T020000
TZOFFSETFROM:-0600
TZOFFSETTO:-0700
RDATE:20211107T020000
RDATE:20221106T020000
END:STANDARD
BEGIN:DAYLIGHT
TZNAME:MDT
DTSTART:20210314T020000
TZOFFSETFROM:-0700
TZOFFSETTO:-0600
RDATE:20220313T020000
RDATE:20230312T020000
END:DAYLIGHT
END:VTIMEZONE
BEGIN:VEVENT
UID:be252913-ffa9-4b39-a98f-b2d3894d87ed
DTSTAMP:20260424T132205Z
DESCRIPTION:Fresh\, local fruits and vegetables\, plus other guest vendors 
 each week.  There is always something new at the Farmers Market
DTSTART;TZID=America/Denver:20210920T100000
DTEND;TZID=America/Denver:20210920T170000
LOCATION:
SUMMARY:Farmers Market
END:VEVENT
END:VCALENDAR
