BEGIN:VCALENDAR
VERSION:2.0
PRODID:-//wmmi.org//NONSGML kigkonsult.se iCalcreator 2.30.10//
CALSCALE:GREGORIAN
METHOD:PUBLISH
UID:b84079a2-049f-4150-b440-3ccf1049519d
X-WR-CALDESC:
X-WR-RELCALID:0fca84beafffffeb80082d75c92bab5f
X-WR-TIMEZONE:America/Denver
BEGIN:VTIMEZONE
TZID:America/Denver
BEGIN:STANDARD
TZNAME:MST
DTSTART:20201101T020000
TZOFFSETFROM:-0600
TZOFFSETTO:-0700
RDATE:20211107T020000
RDATE:20221106T020000
END:STANDARD
BEGIN:DAYLIGHT
TZNAME:MDT
DTSTART:20210314T020000
TZOFFSETFROM:-0700
TZOFFSETTO:-0600
RDATE:20220313T020000
RDATE:20230312T020000
END:DAYLIGHT
END:VTIMEZONE
BEGIN:VEVENT
UID:c03c7e6b-8784-48fd-bfa0-e3bc5b31d727
DTSTAMP:20260424T132308Z
DESCRIPTION:
DTSTART;TZID=America/Denver:20210916T160000
DTEND;TZID=America/Denver:20210916T173000
LOCATION:
SUMMARY:September Lecture & Opening of Special Exhibit
END:VEVENT
END:VCALENDAR
