BEGIN:VCALENDAR
VERSION:2.0
PRODID:-//wmmi.org//NONSGML kigkonsult.se iCalcreator 2.30.10//
CALSCALE:GREGORIAN
METHOD:PUBLISH
UID:97821940-069d-49af-938a-b305c8466b80
X-WR-CALDESC:Find fresh fruits and vegetables\, plus local honey!  Addition
 al vendors make appearances each Wednesday.  there is always something new
  and delicious at the Farmers Market
X-WR-RELCALID:0a79f1c20f5739462e6e364b5b04902c
X-WR-TIMEZONE:America/Denver
BEGIN:VTIMEZONE
TZID:America/Denver
BEGIN:STANDARD
TZNAME:MST
DTSTART:20201101T020000
TZOFFSETFROM:-0600
TZOFFSETTO:-0700
RDATE:20211107T020000
RDATE:20221106T020000
END:STANDARD
BEGIN:DAYLIGHT
TZNAME:MDT
DTSTART:20210314T020000
TZOFFSETFROM:-0700
TZOFFSETTO:-0600
RDATE:20220313T020000
RDATE:20230312T020000
END:DAYLIGHT
END:VTIMEZONE
BEGIN:VEVENT
UID:c5a3ada8-9626-459d-9799-19a2e65ea95c
DTSTAMP:20260424T131525Z
DESCRIPTION:Find fresh fruits and vegetables\, plus local honey!  Additiona
 l vendors make appearances each Wednesday.  there is always something new 
 and delicious at the Farmers Market
DTSTART;TZID=America/Denver:20210915T100000
DTEND;TZID=America/Denver:20210915T170000
LOCATION:
SUMMARY:Farmers Market
END:VEVENT
END:VCALENDAR
