BEGIN:VCALENDAR
VERSION:2.0
PRODID:-//wmmi.org//NONSGML kigkonsult.se iCalcreator 2.30.10//
CALSCALE:GREGORIAN
METHOD:PUBLISH
UID:300e2e95-98ea-499d-aee7-e9a8444f31b9
X-WR-CALDESC:This community event takes place on the WMMI campus.  Please c
 heck with their organization for information and tickets.  https://nephcur
 e.org/events/rocky-mountain-pig-jig-2/
X-WR-RELCALID:59280d1fbdd5a5eae2a49b3c50076657
X-WR-TIMEZONE:America/Denver
BEGIN:VTIMEZONE
TZID:America/Denver
BEGIN:STANDARD
TZNAME:MST
DTSTART:20201101T020000
TZOFFSETFROM:-0600
TZOFFSETTO:-0700
RDATE:20211107T020000
RDATE:20221106T020000
END:STANDARD
BEGIN:DAYLIGHT
TZNAME:MDT
DTSTART:20210314T020000
TZOFFSETFROM:-0700
TZOFFSETTO:-0600
RDATE:20220313T020000
RDATE:20230312T020000
END:DAYLIGHT
END:VTIMEZONE
BEGIN:VEVENT
UID:e85b6af7-55a4-412d-9b14-d73218be6409
DTSTAMP:20260424T131612Z
DESCRIPTION:This community event takes place on the WMMI campus.  Please ch
 eck with their organization for information and tickets.  https://nephcure
 .org/events/rocky-mountain-pig-jig-2/
DTSTART;TZID=America/Denver:20210911T130000
DTEND;TZID=America/Denver:20210911T190000
LOCATION:
SUMMARY:Rocky Mountain Pig Jig (Community Event)
END:VEVENT
END:VCALENDAR
