BEGIN:VCALENDAR
VERSION:2.0
PRODID:-//wmmi.org//NONSGML kigkonsult.se iCalcreator 2.30.10//
CALSCALE:GREGORIAN
METHOD:PUBLISH
UID:57567779-f1bd-4312-9a39-8d594770646f
X-WR-CALDESC:
X-WR-RELCALID:cb159268a6b2b5dc8c4e1c1d47bafb2f
X-WR-TIMEZONE:America/Denver
BEGIN:VTIMEZONE
TZID:America/Denver
BEGIN:STANDARD
TZNAME:MST
DTSTART:20201101T020000
TZOFFSETFROM:-0600
TZOFFSETTO:-0700
RDATE:20211107T020000
RDATE:20221106T020000
END:STANDARD
BEGIN:DAYLIGHT
TZNAME:MDT
DTSTART:20210314T020000
TZOFFSETFROM:-0700
TZOFFSETTO:-0600
RDATE:20220313T020000
END:DAYLIGHT
END:VTIMEZONE
BEGIN:VEVENT
UID:ebcbbeb8-0559-48f2-ab50-1997f116fe6a
DTSTAMP:20260424T133056Z
DESCRIPTION:
DTSTART;TZID=America/Denver:20210906T090000
DTEND;TZID=America/Denver:20210906T160000
LOCATION:
SUMMARY:Labor Day: Open 9-4
END:VEVENT
END:VCALENDAR
