BEGIN:VCALENDAR
VERSION:2.0
PRODID:-//wmmi.org//NONSGML kigkonsult.se iCalcreator 2.30.10//
CALSCALE:GREGORIAN
METHOD:PUBLISH
UID:06b8901d-bc38-45d6-b60c-09586abbf56a
X-WR-CALDESC:Fresh\, local fruits and vegetables\, plus other guest vendors
  each week.  There is always something new at the Farmers Market
X-WR-RELCALID:be8d862e693c174e806e004a0eb2581e
X-WR-TIMEZONE:America/Denver
BEGIN:VTIMEZONE
TZID:America/Denver
BEGIN:STANDARD
TZNAME:MST
DTSTART:20201101T020000
TZOFFSETFROM:-0600
TZOFFSETTO:-0700
RDATE:20211107T020000
RDATE:20221106T020000
END:STANDARD
BEGIN:DAYLIGHT
TZNAME:MDT
DTSTART:20210314T020000
TZOFFSETFROM:-0700
TZOFFSETTO:-0600
RDATE:20220313T020000
END:DAYLIGHT
END:VTIMEZONE
BEGIN:VEVENT
UID:3f0e590c-0380-432c-9049-cf7f58f8e44b
DTSTAMP:20260424T132555Z
DESCRIPTION:Fresh\, local fruits and vegetables\, plus other guest vendors 
 each week.  There is always something new at the Farmers Market
DTSTART;TZID=America/Denver:20210906T100000
DTEND;TZID=America/Denver:20210906T170000
LOCATION:
SUMMARY:Farmers Market
END:VEVENT
END:VCALENDAR
