BEGIN:VCALENDAR
VERSION:2.0
PRODID:-//wmmi.org//NONSGML kigkonsult.se iCalcreator 2.30.10//
CALSCALE:GREGORIAN
METHOD:PUBLISH
UID:674e793e-f806-4302-8cba-67e994f98980
X-WR-CALDESC:Find fresh fruits and vegetables\, plus local honey!  Addition
 al vendors make appearances each Wednesday.  there is always something new
  and delicious at the Farmers Market
X-WR-RELCALID:eb5ae07e950ac0df482bdc31115a35ea
X-WR-TIMEZONE:America/Denver
BEGIN:VTIMEZONE
TZID:America/Denver
BEGIN:STANDARD
TZNAME:MST
DTSTART:20201101T020000
TZOFFSETFROM:-0600
TZOFFSETTO:-0700
RDATE:20211107T020000
RDATE:20221106T020000
END:STANDARD
BEGIN:DAYLIGHT
TZNAME:MDT
DTSTART:20210314T020000
TZOFFSETFROM:-0700
TZOFFSETTO:-0600
RDATE:20220313T020000
END:DAYLIGHT
END:VTIMEZONE
BEGIN:VEVENT
UID:1400048e-77d7-4c7f-8e8b-0b7e2b9e188d
DTSTAMP:20260424T132423Z
DESCRIPTION:Find fresh fruits and vegetables\, plus local honey!  Additiona
 l vendors make appearances each Wednesday.  there is always something new 
 and delicious at the Farmers Market
DTSTART;TZID=America/Denver:20210901T100000
DTEND;TZID=America/Denver:20210901T170000
LOCATION:
SUMMARY:Farmers Market
END:VEVENT
END:VCALENDAR
