BEGIN:VCALENDAR
VERSION:2.0
PRODID:-//wmmi.org//NONSGML kigkonsult.se iCalcreator 2.30.10//
CALSCALE:GREGORIAN
METHOD:PUBLISH
UID:dc103980-4f1e-48e6-a420-d9828aabf7fb
X-WR-CALDESC:
X-WR-RELCALID:19eb70035f2acda2a56f9d2cfdac9038
X-WR-TIMEZONE:America/Denver
BEGIN:VTIMEZONE
TZID:America/Denver
BEGIN:STANDARD
TZNAME:MST
DTSTART:20201101T020000
TZOFFSETFROM:-0600
TZOFFSETTO:-0700
RDATE:20211107T020000
RDATE:20221106T020000
END:STANDARD
BEGIN:DAYLIGHT
TZNAME:MDT
DTSTART:20210314T020000
TZOFFSETFROM:-0700
TZOFFSETTO:-0600
RDATE:20220313T020000
END:DAYLIGHT
END:VTIMEZONE
BEGIN:VEVENT
UID:95ae0d92-5512-4b06-a07b-6b52a1d32f9b
DTSTAMP:20260424T151321Z
DESCRIPTION:
DTSTART;TZID=America/Denver:20210821T180000
DTEND;TZID=America/Denver:20210821T210000
LOCATION:
SUMMARY:Western Saloon Night Fundraiser
END:VEVENT
END:VCALENDAR
