BEGIN:VCALENDAR
VERSION:2.0
PRODID:-//wmmi.org//NONSGML kigkonsult.se iCalcreator 2.30.10//
CALSCALE:GREGORIAN
METHOD:PUBLISH
UID:b58d909e-122d-441d-89ea-2e106836e66a
X-WR-CALDESC:Find fresh fruits and vegetables\, plus local honey!  Addition
 al vendors make appearances each Wednesday.  there is always something new
  and delicious at the Farmers Market
X-WR-RELCALID:49fe512185af59c1bfa7aacef5c19abe
X-WR-TIMEZONE:America/Denver
BEGIN:VTIMEZONE
TZID:America/Denver
BEGIN:STANDARD
TZNAME:MST
DTSTART:20201101T020000
TZOFFSETFROM:-0600
TZOFFSETTO:-0700
RDATE:20211107T020000
RDATE:20221106T020000
END:STANDARD
BEGIN:DAYLIGHT
TZNAME:MDT
DTSTART:20210314T020000
TZOFFSETFROM:-0700
TZOFFSETTO:-0600
RDATE:20220313T020000
END:DAYLIGHT
END:VTIMEZONE
BEGIN:VEVENT
UID:a69580bb-bfff-4e2d-b8c7-f5d0c8efd2e8
DTSTAMP:20260424T151401Z
DESCRIPTION:Find fresh fruits and vegetables\, plus local honey!  Additiona
 l vendors make appearances each Wednesday.  there is always something new 
 and delicious at the Farmers Market
DTSTART;TZID=America/Denver:20210818T100000
DTEND;TZID=America/Denver:20210818T170000
LOCATION:
SUMMARY:Farmers Market
END:VEVENT
END:VCALENDAR
