BEGIN:VCALENDAR
VERSION:2.0
PRODID:-//wmmi.org//NONSGML kigkonsult.se iCalcreator 2.30.10//
CALSCALE:GREGORIAN
METHOD:PUBLISH
UID:ad0bb2d4-9144-4ef5-a802-dc3a2a0c039c
X-WR-CALDESC:Fresh\, local fruits and vegetables\, plus other guest vendors
  each week.  There is always something new at the Farmers Market
X-WR-RELCALID:a161fdd117366587af0c81368c2ca12e
X-WR-TIMEZONE:America/Denver
BEGIN:VTIMEZONE
TZID:America/Denver
BEGIN:STANDARD
TZNAME:MST
DTSTART:20201101T020000
TZOFFSETFROM:-0600
TZOFFSETTO:-0700
RDATE:20211107T020000
RDATE:20221106T020000
END:STANDARD
BEGIN:DAYLIGHT
TZNAME:MDT
DTSTART:20210314T020000
TZOFFSETFROM:-0700
TZOFFSETTO:-0600
RDATE:20220313T020000
END:DAYLIGHT
END:VTIMEZONE
BEGIN:VEVENT
UID:3ae73f6d-de6d-4a63-9b8e-ea6d6f568f89
DTSTAMP:20260424T151447Z
DESCRIPTION:Fresh\, local fruits and vegetables\, plus other guest vendors 
 each week.  There is always something new at the Farmers Market
DTSTART;TZID=America/Denver:20210816T100000
DTEND;TZID=America/Denver:20210816T170000
LOCATION:
SUMMARY:Farmers Market
END:VEVENT
END:VCALENDAR
