BEGIN:VCALENDAR
VERSION:2.0
PRODID:-//wmmi.org//NONSGML kigkonsult.se iCalcreator 2.30.10//
CALSCALE:GREGORIAN
METHOD:PUBLISH
UID:03751c33-dd03-4f75-9d86-a2783d77a271
X-WR-CALDESC:Find fresh fruits and vegetables\, plus local honey!  Addition
 al vendors make appearances each Wednesday.  there is always something new
  and delicious at the Farmers Market
X-WR-RELCALID:6048be3ef0530aecbc76822741dea3f2
X-WR-TIMEZONE:America/Denver
BEGIN:VTIMEZONE
TZID:America/Denver
BEGIN:STANDARD
TZNAME:MST
DTSTART:20201101T020000
TZOFFSETFROM:-0600
TZOFFSETTO:-0700
RDATE:20211107T020000
RDATE:20221106T020000
END:STANDARD
BEGIN:DAYLIGHT
TZNAME:MDT
DTSTART:20210314T020000
TZOFFSETFROM:-0700
TZOFFSETTO:-0600
RDATE:20220313T020000
END:DAYLIGHT
END:VTIMEZONE
BEGIN:VEVENT
UID:1363cf7f-3f15-49ac-9901-5c43a9cbdd00
DTSTAMP:20260424T151204Z
DESCRIPTION:Find fresh fruits and vegetables\, plus local honey!  Additiona
 l vendors make appearances each Wednesday.  there is always something new 
 and delicious at the Farmers Market
DTSTART;TZID=America/Denver:20210811T100000
DTEND;TZID=America/Denver:20210811T170000
LOCATION:
SUMMARY:Farmers Market
END:VEVENT
END:VCALENDAR
