BEGIN:VCALENDAR
VERSION:2.0
PRODID:-//wmmi.org//NONSGML kigkonsult.se iCalcreator 2.30.10//
CALSCALE:GREGORIAN
METHOD:PUBLISH
UID:5fb796fb-e03e-4e93-bb5a-3068827689fd
X-WR-CALDESC:
X-WR-RELCALID:5c0e944f72c0e847e0d09fdf126ca9fd
X-WR-TIMEZONE:America/Denver
BEGIN:VTIMEZONE
TZID:America/Denver
BEGIN:STANDARD
TZNAME:MST
DTSTART:20201101T020000
TZOFFSETFROM:-0600
TZOFFSETTO:-0700
RDATE:20211107T020000
RDATE:20221106T020000
END:STANDARD
BEGIN:DAYLIGHT
TZNAME:MDT
DTSTART:20210314T020000
TZOFFSETFROM:-0700
TZOFFSETTO:-0600
RDATE:20220313T020000
END:DAYLIGHT
END:VTIMEZONE
BEGIN:VEVENT
UID:47371876-17ba-4943-b3e3-f70619f8abeb
DTSTAMP:20260424T152102Z
DESCRIPTION:
DTSTART;TZID=America/Denver:20210810T160000
DTEND;TZID=America/Denver:20210810T170000
LOCATION:
SUMMARY:Monthly Lecture Series
END:VEVENT
END:VCALENDAR
